BEGIN:VCALENDAR
VERSION:2.0
PRODID:-//Simpcw - ECPv6.15.11//NONSGML v1.0//EN
CALSCALE:GREGORIAN
METHOD:PUBLISH
X-WR-CALNAME:Simpcw
X-ORIGINAL-URL:https://simpcw.com
X-WR-CALDESC:Events for Simpcw
REFRESH-INTERVAL;VALUE=DURATION:PT1H
X-Robots-Tag:noindex
X-PUBLISHED-TTL:PT1H
BEGIN:VTIMEZONE
TZID:UTC
BEGIN:STANDARD
TZOFFSETFROM:+0000
TZOFFSETTO:+0000
TZNAME:UTC
DTSTART:20230101T000000
END:STANDARD
END:VTIMEZONE
BEGIN:VEVENT
DTSTART;VALUE=DATE:20241121
DTEND;VALUE=DATE:20241125
DTSTAMP:20260424T085320
CREATED:20240711T220448Z
LAST-MODIFIED:20241106T162539Z
UID:6405-1732147200-1732492799@simpcw.com
SUMMARY:Jurisdiction Engagement
DESCRIPTION:
URL:https://simpcw.com/event/jurisdiction-engagement/
CATEGORIES:Social Development
ATTACH;FMTTYPE=image/png:https://simpcw.com/wp-content/uploads/2024/10/All-Members-Engagement-Poster-2024Nov21-24.png
END:VEVENT
BEGIN:VEVENT
DTSTART;VALUE=DATE:20241125
DTEND;VALUE=DATE:20241130
DTSTAMP:20260424T085320
CREATED:20241024T185923Z
LAST-MODIFIED:20241122T200131Z
UID:11979-1732492800-1732924799@simpcw.com
SUMMARY:National Addictions Awareness Week
DESCRIPTION:
URL:https://simpcw.com/event/national-addictions-awareness-week-6/
LOCATION:Simpcw Community Hall\, 7555 Dunn Lake Road\, Chu Chua\, British Columbia\, V0E 1E0
CATEGORIES:Administration,Health,NRD,Social Development
ATTACH;FMTTYPE=image/jpeg:https://simpcw.com/wp-content/uploads/2024/11/NAAW-2024.jpg
ORGANIZER;CN="Dakotah Casey":MAILTO:dakotah.casey@simpcw.com
END:VEVENT
BEGIN:VEVENT
DTSTART;TZID=UTC:20241205T170000
DTEND;TZID=UTC:20241205T190000
DTSTAMP:20260424T085320
CREATED:20241128T165503Z
LAST-MODIFIED:20241128T165503Z
UID:12340-1733418000-1733425200@simpcw.com
SUMMARY:Simpcw Women's Wellness Group
DESCRIPTION:
URL:https://simpcw.com/event/simpcw-womens-wellness-group-2/
LOCATION:Spiritual Centre\, Chu Chua\, British Columbia\, Canada
CATEGORIES:Health,Social Development
ATTACH;FMTTYPE=image/jpeg:https://simpcw.com/wp-content/uploads/2024/11/Womens-Wellness-Group-1-5.jpg
ORGANIZER;CN="Dakotah Casey":MAILTO:dakotah.casey@simpcw.com
END:VEVENT
BEGIN:VEVENT
DTSTART;TZID=UTC:20241218T100000
DTEND;TZID=UTC:20241218T143000
DTSTAMP:20260424T085320
CREATED:20240711T220859Z
LAST-MODIFIED:20240711T220859Z
UID:6417-1734516000-1734532200@simpcw.com
SUMMARY:Jordan's Principle Outreach
DESCRIPTION:
URL:https://simpcw.com/event/jordans-principle-outreach-6/
CATEGORIES:Social Development
END:VEVENT
BEGIN:VEVENT
DTSTART;TZID=UTC:20250115T100000
DTEND;TZID=UTC:20250115T143000
DTSTAMP:20260424T085320
CREATED:20250108T164457Z
LAST-MODIFIED:20250108T164457Z
UID:12529-1736935200-1736951400@simpcw.com
SUMMARY:Jordan's Principle Outreach
DESCRIPTION:
URL:https://simpcw.com/event/jordans-principle-outreach-2/
CATEGORIES:Social Development
ATTACH;FMTTYPE=image/png:https://simpcw.com/wp-content/uploads/2025/01/Continuous.png
END:VEVENT
BEGIN:VEVENT
DTSTART;TZID=UTC:20250116T170000
DTEND;TZID=UTC:20250116T190000
DTSTAMP:20260424T085320
CREATED:20250107T181235Z
LAST-MODIFIED:20250107T181241Z
UID:12503-1737046800-1737054000@simpcw.com
SUMMARY:Simpcw Women's Wellness Group
DESCRIPTION:
URL:https://simpcw.com/event/simpcw-womens-wellness-group-3/
LOCATION:Spiritual Centre\, Chu Chua\, British Columbia\, Canada
CATEGORIES:Health,Social Development
ATTACH;FMTTYPE=image/png:https://simpcw.com/wp-content/uploads/2025/01/Womens-Wellness.png
ORGANIZER;CN="Dakotah Casey":MAILTO:dakotah.casey@simpcw.com
END:VEVENT
BEGIN:VEVENT
DTSTART;TZID=UTC:20250219T100000
DTEND;TZID=UTC:20250219T143000
DTSTAMP:20260424T085320
CREATED:20250212T205317Z
LAST-MODIFIED:20250212T205317Z
UID:13146-1739959200-1739975400@simpcw.com
SUMMARY:Jordan's Principle Outreach
DESCRIPTION:
URL:https://simpcw.com/event/jordans-principle-outreach-7/
LOCATION:Social Development Office
CATEGORIES:Social Development
ATTACH;FMTTYPE=image/png:https://simpcw.com/wp-content/uploads/2025/02/Continuous.png
END:VEVENT
BEGIN:VEVENT
DTSTART;TZID=UTC:20250226T100000
DTEND;TZID=UTC:20250226T120000
DTSTAMP:20260424T085320
CREATED:20250212T180852Z
LAST-MODIFIED:20250212T180852Z
UID:13125-1740564000-1740571200@simpcw.com
SUMMARY:Family Enrichment Support
DESCRIPTION:
URL:https://simpcw.com/event/family-enrichment-support/
LOCATION:Spiritual Centre\, Chu Chua\, British Columbia\, Canada
CATEGORIES:Social Development
ATTACH;FMTTYPE=image/png:https://simpcw.com/wp-content/uploads/2025/02/Family-Enrichment-Support-2-2.png
END:VEVENT
BEGIN:VEVENT
DTSTART;TZID=UTC:20250319T100000
DTEND;TZID=UTC:20250319T143000
DTSTAMP:20260424T085320
CREATED:20250212T205515Z
LAST-MODIFIED:20250212T205515Z
UID:13149-1742378400-1742394600@simpcw.com
SUMMARY:Jordan's Principle Outreach
DESCRIPTION:
URL:https://simpcw.com/event/jordans-principle-outreach-8/
LOCATION:Social Development Office
CATEGORIES:Social Development
ATTACH;FMTTYPE=image/png:https://simpcw.com/wp-content/uploads/2025/02/Continuous.png
END:VEVENT
BEGIN:VEVENT
DTSTART;TZID=UTC:20250326T100000
DTEND;TZID=UTC:20250326T120000
DTSTAMP:20260424T085320
CREATED:20250212T203155Z
LAST-MODIFIED:20250212T203155Z
UID:13128-1742983200-1742990400@simpcw.com
SUMMARY:Family Enrichment Support
DESCRIPTION:
URL:https://simpcw.com/event/family-enrichment-support-2/
LOCATION:Spiritual Centre\, Chu Chua\, British Columbia\, Canada
CATEGORIES:Social Development
ATTACH;FMTTYPE=image/png:https://simpcw.com/wp-content/uploads/2025/02/Family-Enrichment-Support-2-2.png
END:VEVENT
BEGIN:VEVENT
DTSTART;TZID=UTC:20250416T100000
DTEND;TZID=UTC:20250416T140000
DTSTAMP:20260424T085320
CREATED:20250331T205441Z
LAST-MODIFIED:20250331T205441Z
UID:14060-1744797600-1744812000@simpcw.com
SUMMARY:Wellness & Prevention Fair
DESCRIPTION:
URL:https://simpcw.com/event/wellness-prevention-fair/
LOCATION:Simpcw Community Hall\, 7555 Dunn Lake Road\, Chu Chua\, British Columbia\, V0E 1E0
CATEGORIES:Social Development
ATTACH;FMTTYPE=image/jpeg:https://simpcw.com/wp-content/uploads/2025/03/Wellness-Prevention-fair-.jpg
END:VEVENT
BEGIN:VEVENT
DTSTART;TZID=UTC:20250416T100000
DTEND;TZID=UTC:20250416T143000
DTSTAMP:20260424T085320
CREATED:20250212T205618Z
LAST-MODIFIED:20250212T205618Z
UID:13151-1744797600-1744813800@simpcw.com
SUMMARY:Jordan's Principle Outreach
DESCRIPTION:
URL:https://simpcw.com/event/jordans-principle-outreach-9/
LOCATION:Social Development Office
CATEGORIES:Social Development
ATTACH;FMTTYPE=image/png:https://simpcw.com/wp-content/uploads/2025/02/Continuous.png
END:VEVENT
BEGIN:VEVENT
DTSTART;TZID=UTC:20250423T100000
DTEND;TZID=UTC:20250423T120000
DTSTAMP:20260424T085320
CREATED:20250212T203331Z
LAST-MODIFIED:20250407T160155Z
UID:13130-1745402400-1745409600@simpcw.com
SUMMARY:Family Enrichment Support
DESCRIPTION:Date has changed from April 30th to APRIL 23RD!
URL:https://simpcw.com/event/family-enrichment-support-3/
LOCATION:Spiritual Centre\, Chu Chua\, British Columbia\, Canada
CATEGORIES:Social Development
ATTACH;FMTTYPE=image/png:https://simpcw.com/wp-content/uploads/2025/02/Family-Enrichment-Support-2-2.png
END:VEVENT
BEGIN:VEVENT
DTSTART;TZID=UTC:20250430T163000
DTEND;TZID=UTC:20250430T190000
DTSTAMP:20260424T085320
CREATED:20250404T165744Z
LAST-MODIFIED:20250404T165744Z
UID:14090-1746030600-1746039600@simpcw.com
SUMMARY:Healing Our Painful Emotions
DESCRIPTION:
URL:https://simpcw.com/event/healing-our-painful-emotions-3/
LOCATION:Spiritual Centre\, Chu Chua\, British Columbia\, Canada
CATEGORIES:Social Development
ATTACH;FMTTYPE=image/jpeg:https://simpcw.com/wp-content/uploads/2025/04/April-HOPE.jpg
ORGANIZER;CN="Dakotah Casey":MAILTO:dakotah.casey@simpcw.com
END:VEVENT
BEGIN:VEVENT
DTSTART;VALUE=DATE:20250502
DTEND;VALUE=DATE:20250504
DTSTAMP:20260424T085320
CREATED:20250428T204320Z
LAST-MODIFIED:20250428T204433Z
UID:14340-1746144000-1746316799@simpcw.com
SUMMARY:POSTPONED - Jurisdiction Engagement May 2/3
DESCRIPTION:  \nOut of respect for the Family and Community\, this weekend’s Jurisdiction Engagement is postponed. We thank you for your understanding. \n  \nKukwstsétsemc / Kukstsétselp
URL:https://simpcw.com/event/postponed-jurisdiction-engagement-may-2-3/
LOCATION:Simpcw Community Hall\, 7555 Dunn Lake Road\, Chu Chua\, British Columbia\, V0E 1E0
CATEGORIES:Social Development
ORGANIZER;CN="Megan Sim":MAILTO:megan.sim@simpcw.com
END:VEVENT
BEGIN:VEVENT
DTSTART;TZID=UTC:20250521T100000
DTEND;TZID=UTC:20250521T143000
DTSTAMP:20260424T085320
CREATED:20250212T205722Z
LAST-MODIFIED:20250212T205722Z
UID:13153-1747821600-1747837800@simpcw.com
SUMMARY:Jordan's Principle Outreach
DESCRIPTION:
URL:https://simpcw.com/event/jordans-principle-outreach-10/
LOCATION:Social Development Office
CATEGORIES:Social Development
ATTACH;FMTTYPE=image/png:https://simpcw.com/wp-content/uploads/2025/02/Continuous.png
END:VEVENT
BEGIN:VEVENT
DTSTART;VALUE=DATE:20250523
DTEND;VALUE=DATE:20250526
DTSTAMP:20260424T085320
CREATED:20250328T195321Z
LAST-MODIFIED:20250404T180656Z
UID:14055-1747958400-1748217599@simpcw.com
SUMMARY:Northern Region and Alberta Simpcw Members Cultural Gathering
DESCRIPTION:
URL:https://simpcw.com/event/northern-region-and-alberta-simpcw-members-cultural-gathering/
CATEGORIES:Social Development
ATTACH;FMTTYPE=image/jpeg:https://simpcw.com/wp-content/uploads/2025/03/AFH-Prince-George-Cultural-Gathering-Poster-2.jpg
END:VEVENT
BEGIN:VEVENT
DTSTART;TZID=UTC:20250523T100000
DTEND;TZID=UTC:20250523T140000
DTSTAMP:20260424T085320
CREATED:20250212T203444Z
LAST-MODIFIED:20250521T205039Z
UID:13132-1747994400-1748008800@simpcw.com
SUMMARY:Family Enrichment Support DATE CHANGE for this month only
DESCRIPTION:
URL:https://simpcw.com/event/family-enrichment-support-4/
LOCATION:Spiritual Centre\, Chu Chua\, British Columbia\, Canada
CATEGORIES:Social Development
ATTACH;FMTTYPE=image/png:https://simpcw.com/wp-content/uploads/2025/02/Family-Enrichment-Support-2-2.png
END:VEVENT
BEGIN:VEVENT
DTSTART;TZID=UTC:20250605T100000
DTEND;TZID=UTC:20250605T120000
DTSTAMP:20260424T085320
CREATED:20250514T223859Z
LAST-MODIFIED:20250514T223859Z
UID:14538-1749117600-1749124800@simpcw.com
SUMMARY:A Life Skills & Wellness Program for Women
DESCRIPTION:
URL:https://simpcw.com/event/a-life-skills-wellness-program-for-women/
LOCATION:Spiritual Center
CATEGORIES:Social Development
ATTACH;FMTTYPE=image/jpeg:https://simpcw.com/wp-content/uploads/2025/05/Empowered-Living-A-Life-Skills-Wellness-Program-for-Women--scaled.jpg
END:VEVENT
BEGIN:VEVENT
DTSTART;TZID=UTC:20250612T100000
DTEND;TZID=UTC:20250612T120000
DTSTAMP:20260424T085320
CREATED:20250514T223952Z
LAST-MODIFIED:20250514T223957Z
UID:14542-1749722400-1749729600@simpcw.com
SUMMARY:A Life Skills & Wellness Program for Women
DESCRIPTION:
URL:https://simpcw.com/event/a-life-skills-wellness-program-for-women-2/
LOCATION:Spiritual Center
CATEGORIES:Social Development
ATTACH;FMTTYPE=image/jpeg:https://simpcw.com/wp-content/uploads/2025/05/Empowered-Living-A-Life-Skills-Wellness-Program-for-Women--scaled.jpg
END:VEVENT
BEGIN:VEVENT
DTSTART;TZID=UTC:20250618T100000
DTEND;TZID=UTC:20250618T143000
DTSTAMP:20260424T085320
CREATED:20250212T210350Z
LAST-MODIFIED:20250212T210350Z
UID:13155-1750240800-1750257000@simpcw.com
SUMMARY:Jordan's Principle Outreach
DESCRIPTION:
URL:https://simpcw.com/event/jordans-principle-outreach-11/
LOCATION:Social Development Office
CATEGORIES:Social Development
ATTACH;FMTTYPE=image/png:https://simpcw.com/wp-content/uploads/2025/02/Continuous.png
END:VEVENT
BEGIN:VEVENT
DTSTART;TZID=UTC:20250619T100000
DTEND;TZID=UTC:20250619T120000
DTSTAMP:20260424T085320
CREATED:20250514T224101Z
LAST-MODIFIED:20250514T224101Z
UID:14544-1750327200-1750334400@simpcw.com
SUMMARY:A Life Skills & Wellness Program for Women
DESCRIPTION:
URL:https://simpcw.com/event/a-life-skills-wellness-program-for-women-3/
LOCATION:Spiritual Center
CATEGORIES:Social Development
ATTACH;FMTTYPE=image/jpeg:https://simpcw.com/wp-content/uploads/2025/05/Empowered-Living-A-Life-Skills-Wellness-Program-for-Women--scaled.jpg
END:VEVENT
BEGIN:VEVENT
DTSTART;TZID=UTC:20250625T080000
DTEND;TZID=UTC:20250625T170000
DTSTAMP:20260424T085320
CREATED:20250212T203601Z
LAST-MODIFIED:20250212T204935Z
UID:13134-1750838400-1750870800@simpcw.com
SUMMARY:Family Enrichment Support
DESCRIPTION:
URL:https://simpcw.com/event/family-enrichment-support-5/
LOCATION:Spiritual Centre\, Chu Chua\, British Columbia\, Canada
CATEGORIES:Social Development
ATTACH;FMTTYPE=image/png:https://simpcw.com/wp-content/uploads/2025/02/Family-Enrichment-Support-2-2.png
END:VEVENT
BEGIN:VEVENT
DTSTART;TZID=UTC:20250626T100000
DTEND;TZID=UTC:20250626T120000
DTSTAMP:20260424T085320
CREATED:20250514T224158Z
LAST-MODIFIED:20250514T224202Z
UID:14546-1750932000-1750939200@simpcw.com
SUMMARY:A Life Skills & Wellness Program for Women
DESCRIPTION:
URL:https://simpcw.com/event/a-life-skills-wellness-program-for-women-4/
LOCATION:Spiritual Center
CATEGORIES:Social Development
ATTACH;FMTTYPE=image/jpeg:https://simpcw.com/wp-content/uploads/2025/05/Empowered-Living-A-Life-Skills-Wellness-Program-for-Women--scaled.jpg
END:VEVENT
BEGIN:VEVENT
DTSTART;TZID=UTC:20250703T100000
DTEND;TZID=UTC:20250703T120000
DTSTAMP:20260424T085320
CREATED:20250514T224327Z
LAST-MODIFIED:20250514T224330Z
UID:14548-1751536800-1751544000@simpcw.com
SUMMARY:A Life Skills & Wellness Program for Women
DESCRIPTION:
URL:https://simpcw.com/event/a-life-skills-wellness-program-for-women-5/
LOCATION:Spiritual Center
CATEGORIES:Social Development
ATTACH;FMTTYPE=image/jpeg:https://simpcw.com/wp-content/uploads/2025/05/Empowered-Living-A-Life-Skills-Wellness-Program-for-Women--scaled.jpg
END:VEVENT
BEGIN:VEVENT
DTSTART;TZID=UTC:20250710T100000
DTEND;TZID=UTC:20250710T120000
DTSTAMP:20260424T085320
CREATED:20250514T224426Z
LAST-MODIFIED:20250514T224426Z
UID:14550-1752141600-1752148800@simpcw.com
SUMMARY:A Life Skills & Wellness Program for Women
DESCRIPTION:
URL:https://simpcw.com/event/a-life-skills-wellness-program-for-women-6/
LOCATION:Spiritual Center
CATEGORIES:Social Development
ATTACH;FMTTYPE=image/jpeg:https://simpcw.com/wp-content/uploads/2025/05/Empowered-Living-A-Life-Skills-Wellness-Program-for-Women--scaled.jpg
END:VEVENT
BEGIN:VEVENT
DTSTART;TZID=UTC:20250716T100000
DTEND;TZID=UTC:20250716T143000
DTSTAMP:20260424T085320
CREATED:20250212T210520Z
LAST-MODIFIED:20250212T210520Z
UID:13157-1752660000-1752676200@simpcw.com
SUMMARY:Jordan's Principle Outreach
DESCRIPTION:
URL:https://simpcw.com/event/jordans-principle-outreach-12/
LOCATION:Social Development Office
CATEGORIES:Social Development
ATTACH;FMTTYPE=image/png:https://simpcw.com/wp-content/uploads/2025/02/Continuous.png
END:VEVENT
BEGIN:VEVENT
DTSTART;TZID=UTC:20250730T100000
DTEND;TZID=UTC:20250730T120000
DTSTAMP:20260424T085320
CREATED:20250212T203721Z
LAST-MODIFIED:20250212T203721Z
UID:13136-1753869600-1753876800@simpcw.com
SUMMARY:Family Enrichment Support
DESCRIPTION:
URL:https://simpcw.com/event/family-enrichment-support-6/
LOCATION:Spiritual Centre\, Chu Chua\, British Columbia\, Canada
CATEGORIES:Social Development
ATTACH;FMTTYPE=image/png:https://simpcw.com/wp-content/uploads/2025/02/Family-Enrichment-Support-2-2.png
END:VEVENT
BEGIN:VEVENT
DTSTART;TZID=UTC:20250801T120000
DTEND;TZID=UTC:20250801T150000
DTSTAMP:20260424T085320
CREATED:20250801T190214Z
LAST-MODIFIED:20250801T190214Z
UID:14957-1754049600-1754060400@simpcw.com
SUMMARY:Mobile Service BC
DESCRIPTION:August 5th 12-3pm at the office
URL:https://simpcw.com/event/mobile-service-bc/
LOCATION:Simpcw Band office
CATEGORIES:Social Development
ATTACH;FMTTYPE=image/png:https://simpcw.com/wp-content/uploads/2025/08/Service-BC-Mobile-Service-July-29.png
ORGANIZER;CN="Ronda McInnis":MAILTO:ronda.mcinnis@simpcw.com
END:VEVENT
BEGIN:VEVENT
DTSTART;TZID=UTC:20250827T100000
DTEND;TZID=UTC:20250827T120000
DTSTAMP:20260424T085320
CREATED:20250212T203835Z
LAST-MODIFIED:20250212T203835Z
UID:13138-1756288800-1756296000@simpcw.com
SUMMARY:Family Enrichment Support
DESCRIPTION:
URL:https://simpcw.com/event/family-enrichment-support-7/
LOCATION:Spiritual Centre\, Chu Chua\, British Columbia\, Canada
CATEGORIES:Social Development
END:VEVENT
END:VCALENDAR