BEGIN:VCALENDAR
VERSION:2.0
PRODID:-//Simpcw - ECPv6.15.11//NONSGML v1.0//EN
CALSCALE:GREGORIAN
METHOD:PUBLISH
X-WR-CALNAME:Simpcw
X-ORIGINAL-URL:https://simpcw.com
X-WR-CALDESC:Events for Simpcw
REFRESH-INTERVAL;VALUE=DURATION:PT1H
X-Robots-Tag:noindex
X-PUBLISHED-TTL:PT1H
BEGIN:VTIMEZONE
TZID:UTC
BEGIN:STANDARD
TZOFFSETFROM:+0000
TZOFFSETTO:+0000
TZNAME:UTC
DTSTART:20240101T000000
END:STANDARD
END:VTIMEZONE
BEGIN:VEVENT
DTSTART;TZID=UTC:20251031T183000
DTEND;TZID=UTC:20251129T220000
DTSTAMP:20260422T223743
CREATED:20251002T223943Z
LAST-MODIFIED:20251002T223943Z
UID:15396-1761935400-1764453600@simpcw.com
SUMMARY:All Ages Halloween Community Event
DESCRIPTION:An open invitation for all for a night of Pizza\, Candy\, Dancing and FUN! \nPleased to invite everyone to the Halloween Dance Party with DJ Nick providing family friendly music and light show\, snap some pictures at the Photo Booth with your friends and family\, and sign up for the COSTUME CONTEST with a 1st Place Cash Prize! \nThis Dance will be held at the Community Hall on Friday \,October 31st at 6:30pm-10:00pm no registration needed! \nIf you would like to volunteer to help manage food and beverage tables please reach out! \nAll Questions and Inquiries can be sent to: \nProgram Coordinator\nShelby Wilson-Berg\nPhone: 250-672-0481\nEmail: Shelby.wilson-berg@simpcw.com
URL:https://simpcw.com/event/all-ages-halloween-community-event/
LOCATION:Simpcw Community Hall\, 7555 Dunn Lake Road\, Chu Chua\, British Columbia\, V0E 1E0
CATEGORIES:Social Development
ATTACH;FMTTYPE=image/png:https://simpcw.com/wp-content/uploads/2025/10/Halloween.png
ORGANIZER;CN="Shelby Wilson-Berg":MAILTO:Shelby.wilson-berg@simpcw.com
END:VEVENT
BEGIN:VEVENT
DTSTART;VALUE=DATE:20251106
DTEND;VALUE=DATE:20251110
DTSTAMP:20260422T223743
CREATED:20250603T175405Z
LAST-MODIFIED:20250731T180822Z
UID:14691-1762387200-1762732799@simpcw.com
SUMMARY:Melukwmintem - Calling our Children Home
DESCRIPTION:Calling our Children Home Ceremony in McBride November 6-9\, 2025
URL:https://simpcw.com/event/melukwmintem-calling-our-children-home-save-the-date/
LOCATION:British Columbia
CATEGORIES:Social Development
ATTACH;FMTTYPE=image/png:https://simpcw.com/wp-content/uploads/2025/06/Melukwmintem-2025-Save-the-Date-Nov-6-9.png
END:VEVENT
BEGIN:VEVENT
DTSTART;TZID=UTC:20251126T100000
DTEND;TZID=UTC:20251126T120000
DTSTAMP:20260422T223743
CREATED:20250212T204720Z
LAST-MODIFIED:20250212T204720Z
UID:13144-1764151200-1764158400@simpcw.com
SUMMARY:Family Enrichment Support
DESCRIPTION:
URL:https://simpcw.com/event/family-enrichment-support-10/
LOCATION:Spiritual Centre\, Chu Chua\, British Columbia\, Canada
CATEGORIES:Social Development
ATTACH;FMTTYPE=image/png:https://simpcw.com/wp-content/uploads/2025/02/Family-Enrichment-Support-2-2.png
END:VEVENT
END:VCALENDAR