BEGIN:VCALENDAR
VERSION:2.0
PRODID:-//Simpcw - ECPv6.15.11//NONSGML v1.0//EN
CALSCALE:GREGORIAN
METHOD:PUBLISH
X-WR-CALNAME:Simpcw
X-ORIGINAL-URL:https://simpcw.com
X-WR-CALDESC:Events for Simpcw
REFRESH-INTERVAL;VALUE=DURATION:PT1H
X-Robots-Tag:noindex
X-PUBLISHED-TTL:PT1H
BEGIN:VTIMEZONE
TZID:UTC
BEGIN:STANDARD
TZOFFSETFROM:+0000
TZOFFSETTO:+0000
TZNAME:UTC
DTSTART:20240101T000000
END:STANDARD
END:VTIMEZONE
BEGIN:VEVENT
DTSTART;VALUE=DATE:20251003
DTEND;VALUE=DATE:20251006
DTSTAMP:20260423T001535
CREATED:20250813T181130Z
LAST-MODIFIED:20250813T181130Z
UID:14987-1759449600-1759708799@simpcw.com
SUMMARY:Away From Home Referendum Information Session - Vancouver
DESCRIPTION:Away From Home Information Session for the Referendum – in Vancouver October 3-5th\, please register with the information in the poster
URL:https://simpcw.com/event/away-from-home-referendum-information-session-vancouver/
LOCATION:British Columbia
CATEGORIES:Social Development
ATTACH;FMTTYPE=image/png:https://simpcw.com/wp-content/uploads/2025/08/DRAFT-Away-From-Home-Information-Meeting-Oct-2025-1.png
ORGANIZER;CN="Megan Sim":MAILTO:megan.sim@simpcw.com
END:VEVENT
BEGIN:VEVENT
DTSTART;TZID=UTC:20251015T160000
DTEND;TZID=UTC:20251015T193000
DTSTAMP:20260423T001535
CREATED:20250812T215544Z
LAST-MODIFIED:20250812T215544Z
UID:14984-1760544000-1760556600@simpcw.com
SUMMARY:Community Jurisdiction Referendum Information Meeting
DESCRIPTION:JURISDICTION COMMUNITY INFORMATION MEETING:  \nIn preparation of the upcoming Jurisdiction Referendum for the Yecwemintem re kwseltkten-kt (“Looking After Our Relations/People”) Law\, we invite all Community Members to join us in Vancouver as we review key points of the Law in it’s final form. \nWhere: Chu Chua Community Hall \nWhen: October 15\, 2025 \nWho: Registered or entitled Simpcw Members residing in Community / Barriere | Community Members | Community Members | On Reserve Electors | Members in Kamloops & Area (Kamloops & Area Away From Home Members are welcome to attend either the Community or Away From Home Information Sessions) \nLink to register: surveymonkey.com/r/TFQH3KM \nNote: An online live streamed option will be available. Please register for the link.  \nDeadline to register: September 8\, 2025
URL:https://simpcw.com/event/community-jurisdiction-referendum-information-meeting/
LOCATION:Chu Chua\, 7555 Dunn Lake Road\, Chu Chua\, British Columbia\, V0E 1E0\, Canada
CATEGORIES:Social Development
ATTACH;FMTTYPE=image/png:https://simpcw.com/wp-content/uploads/2025/08/DRAFT-Community-Information-Poster-4.png
ORGANIZER;CN="Megan Sim":MAILTO:megan.sim@simpcw.com
END:VEVENT
BEGIN:VEVENT
DTSTART;TZID=UTC:20251029T100000
DTEND;TZID=UTC:20251029T120000
DTSTAMP:20260423T001535
CREATED:20250212T204124Z
LAST-MODIFIED:20250212T204124Z
UID:13142-1761732000-1761739200@simpcw.com
SUMMARY:Family Enrichment Support
DESCRIPTION:
URL:https://simpcw.com/event/family-enrichment-support-9/
LOCATION:Spiritual Centre\, Chu Chua\, British Columbia\, Canada
CATEGORIES:Social Development
ATTACH;FMTTYPE=image/png:https://simpcw.com/wp-content/uploads/2025/02/Family-Enrichment-Support-2-2.png
END:VEVENT
BEGIN:VEVENT
DTSTART;TZID=UTC:20251031T183000
DTEND;TZID=UTC:20251129T220000
DTSTAMP:20260423T001535
CREATED:20251002T223943Z
LAST-MODIFIED:20251002T223943Z
UID:15396-1761935400-1764453600@simpcw.com
SUMMARY:All Ages Halloween Community Event
DESCRIPTION:An open invitation for all for a night of Pizza\, Candy\, Dancing and FUN! \nPleased to invite everyone to the Halloween Dance Party with DJ Nick providing family friendly music and light show\, snap some pictures at the Photo Booth with your friends and family\, and sign up for the COSTUME CONTEST with a 1st Place Cash Prize! \nThis Dance will be held at the Community Hall on Friday \,October 31st at 6:30pm-10:00pm no registration needed! \nIf you would like to volunteer to help manage food and beverage tables please reach out! \nAll Questions and Inquiries can be sent to: \nProgram Coordinator\nShelby Wilson-Berg\nPhone: 250-672-0481\nEmail: Shelby.wilson-berg@simpcw.com
URL:https://simpcw.com/event/all-ages-halloween-community-event/
LOCATION:Simpcw Community Hall\, 7555 Dunn Lake Road\, Chu Chua\, British Columbia\, V0E 1E0
CATEGORIES:Social Development
ATTACH;FMTTYPE=image/png:https://simpcw.com/wp-content/uploads/2025/10/Halloween.png
ORGANIZER;CN="Shelby Wilson-Berg":MAILTO:Shelby.wilson-berg@simpcw.com
END:VEVENT
END:VCALENDAR