BEGIN:VCALENDAR
VERSION:2.0
PRODID:-//Simpcw - ECPv6.15.11//NONSGML v1.0//EN
CALSCALE:GREGORIAN
METHOD:PUBLISH
X-ORIGINAL-URL:https://simpcw.com
X-WR-CALDESC:Events for Simpcw
REFRESH-INTERVAL;VALUE=DURATION:PT1H
X-Robots-Tag:noindex
X-PUBLISHED-TTL:PT1H
BEGIN:VTIMEZONE
TZID:UTC
BEGIN:STANDARD
TZOFFSETFROM:+0000
TZOFFSETTO:+0000
TZNAME:UTC
DTSTART:20230101T000000
END:STANDARD
END:VTIMEZONE
BEGIN:VEVENT
DTSTART;TZID=UTC:20241016T100000
DTEND;TZID=UTC:20241016T143000
DTSTAMP:20260423T211100
CREATED:20240711T215458Z
LAST-MODIFIED:20240711T215458Z
UID:6381-1729072800-1729089000@simpcw.com
SUMMARY:Jordan's Principle Outreach
DESCRIPTION:
URL:https://simpcw.com/event/jordans-principle-outreach-4/
LOCATION:British Columbia
CATEGORIES:Social Development
ATTACH;FMTTYPE=image/jpeg:https://simpcw.com/wp-content/uploads/2024/07/June24-SD-SFN-Newsletter_Page_2-scaled.jpg
END:VEVENT
BEGIN:VEVENT
DTSTART;TZID=UTC:20241024T150000
DTEND;TZID=UTC:20241024T160000
DTSTAMP:20260423T211100
CREATED:20240711T215634Z
LAST-MODIFIED:20241023T192303Z
UID:6387-1729782000-1729785600@simpcw.com
SUMMARY:CANCELLED Pumpkin Carving Night
DESCRIPTION:
URL:https://simpcw.com/event/pumpkin-carving/
LOCATION:Simpcw Community Hall\, 7555 Dunn Lake Road\, Chu Chua\, British Columbia\, V0E 1E0
CATEGORIES:Social Development
ORGANIZER;CN="Megan Sim":MAILTO:megan.sim@simpcw.com
END:VEVENT
BEGIN:VEVENT
DTSTART;TZID=UTC:20241031T080000
DTEND;TZID=UTC:20241031T160000
DTSTAMP:20260423T211100
CREATED:20240711T220034Z
LAST-MODIFIED:20240711T220034Z
UID:6397-1730361600-1730390400@simpcw.com
SUMMARY:Halloween Celebration
DESCRIPTION:
URL:https://simpcw.com/event/halloween-celebration/
LOCATION:British Columbia
CATEGORIES:Social Development
END:VEVENT
END:VCALENDAR