BEGIN:VCALENDAR
VERSION:2.0
PRODID:-//Simpcw - ECPv6.15.11//NONSGML v1.0//EN
CALSCALE:GREGORIAN
METHOD:PUBLISH
X-WR-CALNAME:Simpcw
X-ORIGINAL-URL:https://simpcw.com
X-WR-CALDESC:Events for Simpcw
REFRESH-INTERVAL;VALUE=DURATION:PT1H
X-Robots-Tag:noindex
X-PUBLISHED-TTL:PT1H
BEGIN:VTIMEZONE
TZID:UTC
BEGIN:STANDARD
TZOFFSETFROM:+0000
TZOFFSETTO:+0000
TZNAME:UTC
DTSTART:20230101T000000
END:STANDARD
END:VTIMEZONE
BEGIN:VEVENT
DTSTART;TZID=UTC:20240901T080000
DTEND;TZID=UTC:20240901T170000
DTSTAMP:20260423T223646
CREATED:20240711T214121Z
LAST-MODIFIED:20240711T214121Z
UID:6350-1725177600-1725210000@simpcw.com
SUMMARY:Registration for Meat Deliver Open
DESCRIPTION:
URL:https://simpcw.com/event/registration-for-meat-deliver-open/
LOCATION:British Columbia
CATEGORIES:Social Development
END:VEVENT
BEGIN:VEVENT
DTSTART;TZID=UTC:20240905T173000
DTEND;TZID=UTC:20240908T090000
DTSTAMP:20260423T223646
CREATED:20240812T200619Z
LAST-MODIFIED:20240814T224752Z
UID:10110-1725557400-1725786000@simpcw.com
SUMMARY:RESCHDULED Kamloops and Vancouver Jurisdiction Engagement
DESCRIPTION:Registration closes Monday August 19th. \nRegistration Link: https://www.surveymonkey.com/r/Y6GRY8D
URL:https://simpcw.com/event/reschduled-kamloops-and-vancouver-jurisdiction-engagement/
LOCATION:Kelowna Capri Coast Hotel\, 171 Harvey Avenue\, Kelowna\, British Columbia\, V1Y 6E8\, Canada
CATEGORIES:Social Development
ATTACH;FMTTYPE=image/png:https://simpcw.com/wp-content/uploads/2024/08/Kam-Van-Engagement-Poster-2024Sept5-8.png
ORGANIZER;CN="Kat McDonald":MAILTO:jurisdiction@simpcw.com
END:VEVENT
BEGIN:VEVENT
DTSTART;TZID=UTC:20240919T080000
DTEND;TZID=UTC:20240922T170000
DTSTAMP:20260423T223646
CREATED:20240711T214629Z
LAST-MODIFIED:20240711T214629Z
UID:6363-1726732800-1727024400@simpcw.com
SUMMARY:Melukwmintem / Simpcw Days
DESCRIPTION:
URL:https://simpcw.com/event/melukwmintem-simpcw-days/
LOCATION:British Columbia
CATEGORIES:Social Development
ORGANIZER;CN="Megan Sim":MAILTO:megan.sim@simpcw.com
END:VEVENT
END:VCALENDAR