BEGIN:VCALENDAR
VERSION:2.0
PRODID:-//Simpcw - ECPv6.15.11//NONSGML v1.0//EN
CALSCALE:GREGORIAN
METHOD:PUBLISH
X-ORIGINAL-URL:https://simpcw.com
X-WR-CALDESC:Events for Simpcw
REFRESH-INTERVAL;VALUE=DURATION:PT1H
X-Robots-Tag:noindex
X-PUBLISHED-TTL:PT1H
BEGIN:VTIMEZONE
TZID:UTC
BEGIN:STANDARD
TZOFFSETFROM:+0000
TZOFFSETTO:+0000
TZNAME:UTC
DTSTART:20230101T000000
END:STANDARD
END:VTIMEZONE
BEGIN:VEVENT
DTSTART;TZID=UTC:20240911T080000
DTEND;TZID=UTC:20240911T170000
DTSTAMP:20260424T090857
CREATED:20240711T214248Z
LAST-MODIFIED:20240711T214248Z
UID:6356-1726041600-1726074000@simpcw.com
SUMMARY:Women's Wellness
DESCRIPTION:
URL:https://simpcw.com/event/womens-wellness-2/
CATEGORIES:SD & Health
END:VEVENT
BEGIN:VEVENT
DTSTART;TZID=UTC:20240814T170000
DTEND;TZID=UTC:20240814T200000
DTSTAMP:20260424T090857
CREATED:20240711T213118Z
LAST-MODIFIED:20240814T164525Z
UID:6323-1723654800-1723665600@simpcw.com
SUMMARY:Women's Wellness
DESCRIPTION:
URL:https://simpcw.com/event/woments-wellness/
CATEGORIES:SD & Health
END:VEVENT
BEGIN:VEVENT
DTSTART;TZID=UTC:20240214T120000
DTEND;TZID=UTC:20240214T140000
DTSTAMP:20260424T090857
CREATED:20240201T220903Z
LAST-MODIFIED:20240201T220903Z
UID:241-1707912000-1707919200@simpcw.com
SUMMARY:Women's Wellness
DESCRIPTION:Cookie decorating!
URL:https://simpcw.com/event/womens-wellness/
LOCATION:Spiritual Centre\, Chu Chua\, British Columbia\, Canada
CATEGORIES:SD & Health
ATTACH;FMTTYPE=image/jpeg:https://simpcw.com/wp-content/uploads/2024/02/Womens-Wellness-Group.jpg
ORGANIZER;CN="SD and Health":MAILTO:dakotah.casey@simpcw.com
END:VEVENT
END:VCALENDAR