BEGIN:VCALENDAR
VERSION:2.0
PRODID:-//Simpcw - ECPv6.15.11//NONSGML v1.0//EN
CALSCALE:GREGORIAN
METHOD:PUBLISH
X-WR-CALNAME:Simpcw
X-ORIGINAL-URL:https://simpcw.com
X-WR-CALDESC:Events for Simpcw
REFRESH-INTERVAL;VALUE=DURATION:PT1H
X-Robots-Tag:noindex
X-PUBLISHED-TTL:PT1H
BEGIN:VTIMEZONE
TZID:UTC
BEGIN:STANDARD
TZOFFSETFROM:+0000
TZOFFSETTO:+0000
TZNAME:UTC
DTSTART:20240101T000000
END:STANDARD
END:VTIMEZONE
BEGIN:VEVENT
DTSTART;VALUE=DATE:20250606
DTEND;VALUE=DATE:20250608
DTSTAMP:20260423T004848
CREATED:20250528T154426Z
LAST-MODIFIED:20250528T154433Z
UID:14645-1749168000-1749340799@simpcw.com
SUMMARY:Nettle Tea Making Workshop
DESCRIPTION:
URL:https://simpcw.com/event/nettle-tea-making-workshop/
CATEGORIES:Health
ATTACH;FMTTYPE=image/jpeg:https://simpcw.com/wp-content/uploads/2025/05/Nettle-Tea-Making-Workshop-scaled.jpg
ORGANIZER;CN="Dakotah Casey":MAILTO:dakotah.casey@simpcw.com
END:VEVENT
BEGIN:VEVENT
DTSTART;TZID=UTC:20250618T120000
DTEND;TZID=UTC:20250618T130000
DTSTAMP:20260423T004848
CREATED:20250513T162423Z
LAST-MODIFIED:20250513T162426Z
UID:14512-1750248000-1750251600@simpcw.com
SUMMARY:Health Workshop Series - Self Advocacy
DESCRIPTION:
URL:https://simpcw.com/event/health-workshop-series-self-advocacy/
LOCATION:Spiritual Centre\, Chu Chua\, British Columbia\, Canada
CATEGORIES:Health
ATTACH;FMTTYPE=image/png:https://simpcw.com/wp-content/uploads/2025/05/HealthWorkshop2-with-background.png
END:VEVENT
BEGIN:VEVENT
DTSTART;TZID=UTC:20250619T170000
DTEND;TZID=UTC:20250619T190000
DTSTAMP:20260423T004848
CREATED:20250526T152945Z
LAST-MODIFIED:20250526T152945Z
UID:14624-1750352400-1750359600@simpcw.com
SUMMARY:Simpcw Women's Wellness Group
DESCRIPTION:
URL:https://simpcw.com/event/simpcw-womens-wellness-group-6/
LOCATION:Spiritual Center
CATEGORIES:Health
ATTACH;FMTTYPE=image/jpeg:https://simpcw.com/wp-content/uploads/2025/05/Womens-Wellness-Group-June.jpg
ORGANIZER;CN="Dakotah Casey":MAILTO:dakotah.casey@simpcw.com
END:VEVENT
BEGIN:VEVENT
DTSTART;TZID=UTC:20250626T160000
DTEND;TZID=UTC:20250626T180000
DTSTAMP:20260423T004848
CREATED:20250528T165032Z
LAST-MODIFIED:20250528T165032Z
UID:14648-1750953600-1750960800@simpcw.com
SUMMARY:Afternoon Arts
DESCRIPTION:
URL:https://simpcw.com/event/afternoon-arts/
LOCATION:Spiritual Center
CATEGORIES:Health
ATTACH;FMTTYPE=image/jpeg:https://simpcw.com/wp-content/uploads/2025/05/June-Arts.jpg
ORGANIZER;CN="Dakotah Casey":MAILTO:dakotah.casey@simpcw.com
END:VEVENT
END:VCALENDAR