BEGIN:VCALENDAR
VERSION:2.0
PRODID:-//Simpcw - ECPv6.15.11//NONSGML v1.0//EN
CALSCALE:GREGORIAN
METHOD:PUBLISH
X-ORIGINAL-URL:https://simpcw.com
X-WR-CALDESC:Events for Simpcw
REFRESH-INTERVAL;VALUE=DURATION:PT1H
X-Robots-Tag:noindex
X-PUBLISHED-TTL:PT1H
BEGIN:VTIMEZONE
TZID:UTC
BEGIN:STANDARD
TZOFFSETFROM:+0000
TZOFFSETTO:+0000
TZNAME:UTC
DTSTART:20240101T000000
END:STANDARD
END:VTIMEZONE
BEGIN:VEVENT
DTSTART;TZID=UTC:20250504T100000
DTEND;TZID=UTC:20250504T130000
DTSTAMP:20260423T024126
CREATED:20250313T190110Z
LAST-MODIFIED:20250429T165652Z
UID:13673-1746352800-1746363600@simpcw.com
SUMMARY:POSTPONED Elders Spring Craft Fair
DESCRIPTION:
URL:https://simpcw.com/event/elders-spring-craft-fair-save-the-date/
LOCATION:Simpcw Community Hall\, 7555 Dunn Lake Road\, Chu Chua\, British Columbia\, V0E 1E0
CATEGORIES:Health
ATTACH;FMTTYPE=image/png:https://simpcw.com/wp-content/uploads/2025/03/Untitled-design-2.png
END:VEVENT
BEGIN:VEVENT
DTSTART;TZID=UTC:20250507T120000
DTEND;TZID=UTC:20250507T130000
DTSTAMP:20260423T024126
CREATED:20250416T220021Z
LAST-MODIFIED:20250416T220021Z
UID:14242-1746619200-1746622800@simpcw.com
SUMMARY:Health Workshop Series - Enhancing Health & Wellness
DESCRIPTION:
URL:https://simpcw.com/event/health-workshop-series-enhancing-health-wellness/
LOCATION:Spiritual Centre\, Chu Chua\, British Columbia\, Canada
CATEGORIES:Health
ATTACH;FMTTYPE=image/png:https://simpcw.com/wp-content/uploads/2025/04/HealthWorkshop1-with-background.png
END:VEVENT
BEGIN:VEVENT
DTSTART;TZID=UTC:20250512T163000
DTEND;TZID=UTC:20250512T210000
DTSTAMP:20260423T024126
CREATED:20250326T181719Z
LAST-MODIFIED:20250509T170752Z
UID:13801-1747067400-1747083600@simpcw.com
SUMMARY:POSTPONED Simpcw Health Planning Meeting
DESCRIPTION:
URL:https://simpcw.com/event/simpcw-health-planning-meeting/
CATEGORIES:Health
ATTACH;FMTTYPE=image/png:https://simpcw.com/wp-content/uploads/2025/05/postponed-health-meeting.png
END:VEVENT
BEGIN:VEVENT
DTSTART;TZID=UTC:20250515T170000
DTEND;TZID=UTC:20250515T190000
DTSTAMP:20260423T024126
CREATED:20250409T163839Z
LAST-MODIFIED:20250509T170645Z
UID:14155-1747328400-1747335600@simpcw.com
SUMMARY:POSTPONED Women's Wellness Group
DESCRIPTION:we will advise of a new date soon
URL:https://simpcw.com/event/postponed-womens-wellness-group/
CATEGORIES:Health
ATTACH;FMTTYPE=image/png:https://simpcw.com/wp-content/uploads/2025/04/postponed-womens-wellness.png
ORGANIZER;CN="Dakotah Casey":MAILTO:dakotah.casey@simpcw.com
END:VEVENT
BEGIN:VEVENT
DTSTART;TZID=UTC:20250522T130000
DTEND;TZID=UTC:20250522T190000
DTSTAMP:20260423T024126
CREATED:20250521T221057Z
LAST-MODIFIED:20250521T221057Z
UID:14612-1747918800-1747940400@simpcw.com
SUMMARY:Simpcw Health - Immunization Clinic 1pm - 7pm
DESCRIPTION:
URL:https://simpcw.com/event/simpcw-health-immunization-clinic-1pm-7pm/
LOCATION:Simpcw Health Office
CATEGORIES:Health
ATTACH;FMTTYPE=image/jpeg:https://simpcw.com/wp-content/uploads/2025/05/Simpcw-Measles.jpg
END:VEVENT
BEGIN:VEVENT
DTSTART;TZID=UTC:20250522T160000
DTEND;TZID=UTC:20250522T180000
DTSTAMP:20260423T024126
CREATED:20250424T172825Z
LAST-MODIFIED:20250424T172825Z
UID:14314-1747929600-1747936800@simpcw.com
SUMMARY:Simpcw Afternoon Arts
DESCRIPTION:Simpcw Afternoon ArtsThursday May 22nd 4-6pmSpiritual Centre\nBring creative project to complete or make new artAll ages & drop-ins welcomerefreshments & snacksFor questions & reminders contact: 778.362.1608 or dakotah.casey@simpcw.com
URL:https://simpcw.com/event/simpcw-afternoon-arts-2/
CATEGORIES:Health
ATTACH;FMTTYPE=image/png:https://simpcw.com/wp-content/uploads/2025/04/AFternoon-ARts-May.png
END:VEVENT
END:VCALENDAR