BEGIN:VCALENDAR
VERSION:2.0
PRODID:-//Simpcw - ECPv6.15.11//NONSGML v1.0//EN
CALSCALE:GREGORIAN
METHOD:PUBLISH
X-ORIGINAL-URL:https://simpcw.com
X-WR-CALDESC:Events for Simpcw
REFRESH-INTERVAL;VALUE=DURATION:PT1H
X-Robots-Tag:noindex
X-PUBLISHED-TTL:PT1H
BEGIN:VTIMEZONE
TZID:UTC
BEGIN:STANDARD
TZOFFSETFROM:+0000
TZOFFSETTO:+0000
TZNAME:UTC
DTSTART:20240101T000000
END:STANDARD
END:VTIMEZONE
BEGIN:VEVENT
DTSTART;TZID=UTC:20250117T080000
DTEND;TZID=UTC:20250119T170000
DTSTAMP:20260424T154936
CREATED:20241023T192549Z
LAST-MODIFIED:20241204T223032Z
UID:11942-1737100800-1737306000@simpcw.com
SUMMARY:Community Planning
DESCRIPTION:
URL:https://simpcw.com/event/community-planning-save-the-date/
LOCATION:Simpcw Community Hall\, 7555 Dunn Lake Road\, Chu Chua\, British Columbia\, V0E 1E0
CATEGORIES:Administration,CCVFD
ATTACH;FMTTYPE=image/png:https://simpcw.com/wp-content/uploads/2024/12/Community-Planning-January.png
END:VEVENT
END:VCALENDAR