BEGIN:VCALENDAR
VERSION:2.0
PRODID:-//Simpcw - ECPv6.15.11//NONSGML v1.0//EN
CALSCALE:GREGORIAN
METHOD:PUBLISH
X-ORIGINAL-URL:https://simpcw.com
X-WR-CALDESC:Events for Simpcw
REFRESH-INTERVAL;VALUE=DURATION:PT1H
X-Robots-Tag:noindex
X-PUBLISHED-TTL:PT1H
BEGIN:VTIMEZONE
TZID:UTC
BEGIN:STANDARD
TZOFFSETFROM:+0000
TZOFFSETTO:+0000
TZNAME:UTC
DTSTART:20240101T000000
END:STANDARD
END:VTIMEZONE
BEGIN:VEVENT
DTSTART;TZID=UTC:20251104T163000
DTEND;TZID=UTC:20251104T190000
DTSTAMP:20260422T225250
CREATED:20250123T185916Z
LAST-MODIFIED:20250123T185916Z
UID:12732-1762273800-1762282800@simpcw.com
SUMMARY:Council Meeting
DESCRIPTION:
URL:https://simpcw.com/event/council-meeting-17/
LOCATION:Boardroom\, 7555 Dunn Lake Road\, Chu Chua\, BC\, V0E 1N1\, Canada
CATEGORIES:Administration
ORGANIZER;CN="Rhonda Kershaw":MAILTO:band.administrator@simpcw.com
END:VEVENT
END:VCALENDAR