BEGIN:VCALENDAR
VERSION:2.0
PRODID:-//Simpcw - ECPv6.15.11//NONSGML v1.0//EN
CALSCALE:GREGORIAN
METHOD:PUBLISH
X-ORIGINAL-URL:https://simpcw.com
X-WR-CALDESC:Events for Simpcw
REFRESH-INTERVAL;VALUE=DURATION:PT1H
X-Robots-Tag:noindex
X-PUBLISHED-TTL:PT1H
BEGIN:VTIMEZONE
TZID:UTC
BEGIN:STANDARD
TZOFFSETFROM:+0000
TZOFFSETTO:+0000
TZNAME:UTC
DTSTART:20240101T000000
END:STANDARD
END:VTIMEZONE
BEGIN:VEVENT
DTSTART;TZID=UTC:20250917T143000
DTEND;TZID=UTC:20250917T163000
DTSTAMP:20260423T022421
CREATED:20250911T180359Z
LAST-MODIFIED:20250911T184512Z
UID:15186-1758119400-1758126600@simpcw.com
SUMMARY:Land Use Plan - Open House
DESCRIPTION:
URL:https://simpcw.com/event/land-use-plan-open-house/
LOCATION:Simpcw Community Hall\, 7555 Dunn Lake Road\, Chu Chua\, British Columbia\, V0E 1E0
CATEGORIES:Administration
ATTACH;FMTTYPE=image/png:https://simpcw.com/wp-content/uploads/2025/09/land-use-photo-scaled.png
ORGANIZER;CN="Liz":MAILTO:lizbeth.nickol@simpcw.com
END:VEVENT
END:VCALENDAR