BEGIN:VCALENDAR
VERSION:2.0
PRODID:-//Simpcw - ECPv6.15.11//NONSGML v1.0//EN
CALSCALE:GREGORIAN
METHOD:PUBLISH
X-WR-CALNAME:Simpcw
X-ORIGINAL-URL:https://simpcw.com
X-WR-CALDESC:Events for Simpcw
REFRESH-INTERVAL;VALUE=DURATION:PT1H
X-Robots-Tag:noindex
X-PUBLISHED-TTL:PT1H
BEGIN:VTIMEZONE
TZID:UTC
BEGIN:STANDARD
TZOFFSETFROM:+0000
TZOFFSETTO:+0000
TZNAME:UTC
DTSTART:20250101T000000
END:STANDARD
END:VTIMEZONE
BEGIN:VEVENT
DTSTART;VALUE=DATE:20260425
DTEND;VALUE=DATE:20260427
DTSTAMP:20260425T013817
CREATED:20260122T230545Z
LAST-MODIFIED:20260122T230545Z
UID:15998-1777075200-1777247999@simpcw.com
SUMMARY:23rd Annual Honouring Our Young Women Pow Wow
DESCRIPTION:We are honoured to invite you to the 23rd Annual Honouring Our Young Women Pow Wow\n\n\nHosted by the Honouring Our Young Women Pow Wow Committee and Simpcw.\n\n\n\n April 25 & 26\, 2026\n Simpcw Community Hall – 7555 Dunn Lake Rd\, Barriere\n\n\n\nGrand Entry Times\n• Saturday: 1:00 PM & 7:00 PM\n• Sunday: 12:00 PM\n\n\n\nSaturday Concession\, 50/50 & Loonie Auction\nVendors welcome: $100 for the weekend + one item to the committee\nDry camping available on site\n\n\n\nVendor & Drum Registration:\nShelley Frank: 778-208-2307\nor\nShelly Loring: 250-401-3046\n\n\n\n This is a drug & alcohol-free event\n No outside concessions or walk-around raffles\n\n\n\nEveryone is welcome!\n\n\n\nPlease share and help spread the word.
URL:https://simpcw.com/event/23rd-annual-honouring-our-young-women-pow-wow/
LOCATION:Simpcw Community Hall\, 7555 Dunn Lake Road\, Chu Chua\, British Columbia\, V0E 1E0
ATTACH;FMTTYPE=image/png:https://simpcw.com/wp-content/uploads/2026/01/2026-Honouring-our-Young-Women-Pow-Wow.png
ORGANIZER;CN="Shelly Loring":MAILTO:Cultural.Lead@simpcw.com
END:VEVENT
END:VCALENDAR