BEGIN:VCALENDAR
VERSION:2.0
PRODID:-//Simpcw - ECPv6.15.11//NONSGML v1.0//EN
CALSCALE:GREGORIAN
METHOD:PUBLISH
X-WR-CALNAME:Simpcw
X-ORIGINAL-URL:https://simpcw.com
X-WR-CALDESC:Events for Simpcw
REFRESH-INTERVAL;VALUE=DURATION:PT1H
X-Robots-Tag:noindex
X-PUBLISHED-TTL:PT1H
BEGIN:VTIMEZONE
TZID:UTC
BEGIN:STANDARD
TZOFFSETFROM:+0000
TZOFFSETTO:+0000
TZNAME:UTC
DTSTART:20250101T000000
END:STANDARD
END:VTIMEZONE
BEGIN:VEVENT
DTSTART;TZID=UTC:20260421T100000
DTEND;TZID=UTC:20260421T130000
DTSTAMP:20260421T015902
CREATED:20260413T153725Z
LAST-MODIFIED:20260413T153725Z
UID:16366-1776765600-1776776400@simpcw.com
SUMMARY:SRG First Annual 5KM Walk/Run
DESCRIPTION:5KM Walk/Run Rescheduled!\n\n\nGood news! The SRG First Annual 5KM Walk/Run has been rescheduled to Tuesday\, April 21\, 2026 \n\n\nJoin us in support of the 23rd Annual Honouring Our Young Women Pow Wow! Whether you walk or run\, all ages are welcome!\n\n\n 10:00 AM – till end\n Start at SRG Office (6580 Dunn Lake Rd) to the ballpark and back\n\n\nRegistration is still open!\nSign up using the QR code or email: wellnessprogramcommittee@simpcwresourcesgroup.com\n\n\nWe hope to see you there!
URL:https://simpcw.com/event/srg-first-annual-5km-walk-run/
ATTACH;FMTTYPE=image/png:https://simpcw.com/wp-content/uploads/2026/04/April-21-5km-Flyer-scaled.png
END:VEVENT
END:VCALENDAR